BEGIN:VCALENDAR
VERSION:2.0
PRODID:-//hacksw/handcal//NONSGML v1.0//EN
BEGIN:VEVENT
UID:Trollveggen Triatlon
DTSTAMP:20260420T132930Z
DTSTART:20260627T120000Z
DTEND:20260627T120000Z
SUMMARY:Trollveggen Triatlon
DESCRIPTION;ENCODING=QUOTED-PRINTABLE:


Majestetisk natur og atmosfære, et triatlon du sent vil glemme!


=0D=0A
END:VEVENT
END:VCALENDAR
