BEGIN:VCALENDAR
VERSION:2.0
PRODID:-//hacksw/handcal//NONSGML v1.0//EN
BEGIN:VEVENT
UID:Eina Triatlon til inntekt for Kreftforeningen
DTSTAMP:20260421T135644Z
DTSTART:20260801T093000Z
DTEND:20260801T093000Z
SUMMARY:Eina Triatlon 
DESCRIPTION;ENCODING=QUOTED-PRINTABLE:Eina Triatlon er et lavterskel veldedighetsarrangement til inntekt for Kreftforeningen, arrangert av gode venner og frivillige på dugnad.&nbsp;Vi ønsker at Eina Triatlon skal være for alle!=0D=0A
END:VEVENT
END:VCALENDAR
