BEGIN:VCALENDAR
VERSION:2.0
PRODID:-//hacksw/handcal//NONSGML v1.0//EN
BEGIN:VEVENT
UID:Nordic Cup - Hallsta Triathlon (Sverige)
DTSTAMP:20260422T142305Z
DTSTART:20260531T120000Z
DTEND:20260531T120000Z
SUMMARY:Nordic Cup - Hallsta (Sverige) 
END:VEVENT
END:VCALENDAR
