BEGIN:VCALENDAR
VERSION:2.0
PRODID:-//hacksw/handcal//NONSGML v1.0//EN
BEGIN:VEVENT
UID:Trondheim triatlon 
DTSTAMP:20260422T155213Z
DTSTART:20260822T000000Z
DTEND:20260822T000000Z
SUMMARY:Trondheim triatlon
DESCRIPTION;ENCODING=QUOTED-PRINTABLE:Trondheim triatlon er et episkt triatlon! Etter å ha bli skysset ut med båt til myteomspunnede Munkholmen, går svømmeetappen (2400m) inn fra holmen til landgang midt blant tilhengerskaren i Ilsvika. Sykkeletappen (50km) fører deltagerne ut til Byneset langs fjæresteinene i Trondheimsfjorden. Etter å ha gjennomført løpeetappen (12km), er målgang i Ilsvika. =0D=0A=0D=0AUtøvere kan velge å delta med kortere svømmeetappe (750m), hvor sykkel og løpeetappen er identisk med normaldistansen.=0D=0A=0D=0AVi arrangerer også Para mosjon og stafett.=0D=0A=0D=0ABesøk vår hjemmeside for mere informasjon.=0D=0A
END:VEVENT
END:VCALENDAR
