BEGIN:VCALENDAR
VERSION:2.0
PRODID:-//hacksw/handcal//NONSGML v1.0//EN
BEGIN:VEVENT
UID:Brandefant triathlon race 2026
DTSTAMP:20260422T160335Z
DTSTART:20260808T000000Z
DTEND:20260808T000000Z
SUMMARY:Brandefant triathlon race 2026
DESCRIPTION;ENCODING=QUOTED-PRINTABLE:I Uvdals vakre omgivelser og med Imingfjells beliggenhet på 1100 m.o.h, tilbyr vi deg muligheten til å delta i et unikt triathlon – Brandefant thriathlon race. =0D=0AVed foten av Hardangervidda vil dette løpet skille seg ut fra tradisjonelle triathlon. =0D=0AAlle damer og menn over 18 år er velkomne til å delta. =0D=0AUtfordre deg selv, kjæresten, en venn, naboen, kollegaen eller kanskje svigerfar, ved å melde dere på dette triathlonet. Dette løpet skiller seg ut fra et tradisjonelt triathlon ved svøm i fjellvann på 1060 m.o.h., sykling på grusvei og løping i fjellterreng, samt har over 1000 høydemeter som skal tilbakelegge på de totalt 55 kilometerne i løpet her med svøm, sykkel og løp - distanse Olympisk+=0D=0A
END:VEVENT
END:VCALENDAR
